BEGIN:VCALENDAR
VERSION:2.0
PRODID:-//Imkerverband Rheinland - ECPv6.15.20//NONSGML v1.0//EN
CALSCALE:GREGORIAN
METHOD:PUBLISH
X-WR-CALNAME:Imkerverband Rheinland
X-ORIGINAL-URL:https://imkerverbandrheinland.de
X-WR-CALDESC:Veranstaltungen für Imkerverband Rheinland
REFRESH-INTERVAL;VALUE=DURATION:PT1H
X-Robots-Tag:noindex
X-PUBLISHED-TTL:PT1H
BEGIN:VTIMEZONE
TZID:Europe/Helsinki
BEGIN:DAYLIGHT
TZOFFSETFROM:+0200
TZOFFSETTO:+0300
TZNAME:EEST
DTSTART:20250330T010000
END:DAYLIGHT
BEGIN:STANDARD
TZOFFSETFROM:+0300
TZOFFSETTO:+0200
TZNAME:EET
DTSTART:20251026T010000
END:STANDARD
BEGIN:DAYLIGHT
TZOFFSETFROM:+0200
TZOFFSETTO:+0300
TZNAME:EEST
DTSTART:20260329T010000
END:DAYLIGHT
BEGIN:STANDARD
TZOFFSETFROM:+0300
TZOFFSETTO:+0200
TZNAME:EET
DTSTART:20261025T010000
END:STANDARD
BEGIN:DAYLIGHT
TZOFFSETFROM:+0200
TZOFFSETTO:+0300
TZNAME:EEST
DTSTART:20270328T010000
END:DAYLIGHT
BEGIN:STANDARD
TZOFFSETFROM:+0300
TZOFFSETTO:+0200
TZNAME:EET
DTSTART:20271031T010000
END:STANDARD
END:VTIMEZONE
BEGIN:VEVENT
DTSTART;TZID=Europe/Helsinki:20260220T190000
DTEND;TZID=Europe/Helsinki:20260320T210000
DTSTAMP:20260422T112412
CREATED:20251231T110459Z
LAST-MODIFIED:20260109T080132Z
UID:10000246-1771614000-1774040400@imkerverbandrheinland.de
SUMMARY:Grundkurs für Bienenhaltung
DESCRIPTION:Für Anfänger und Neu-ImkerDer Kurstermin findet immer freitags (7-mal) um 19:00 bis 21:00 Uhr statt.Das Seminar besteht aus sechs theoretischen Unterrichtseinheiten mit einen praktischem Anteil.Im Kurs werden die Grundlagen der Bienenhaltung vermittelt. \nAnmeldung per E-Mail an: imkerei-konopka@t-online.de
URL:https://imkerverbandrheinland.de/kalender/grundkurs-fuer-bienenhaltung/2026-02-20/
LOCATION:Lehrbienenstand Remstecken Koblenz\, Remstecken\, Koblenz\, RLP\, Germany
CATEGORIES:Verbandsveranstaltungen
ATTACH;FMTTYPE=image/webp:https://imkerverbandrheinland.de/cms/wp-content/uploads/2025/12/honey-bee-4270231_1920.webp
ORGANIZER;CN="Bienenzuchtverein Koblenz e.V. Olaf Konopka":MAILTO:imkerei-konopka@t-online.de
END:VEVENT
BEGIN:VEVENT
DTSTART;TZID=Europe/Helsinki:20260227T190000
DTEND;TZID=Europe/Helsinki:20260327T210000
DTSTAMP:20260422T112412
CREATED:20251231T110459Z
LAST-MODIFIED:20260109T080132Z
UID:10000247-1772218800-1774645200@imkerverbandrheinland.de
SUMMARY:Grundkurs für Bienenhaltung
DESCRIPTION:Für Anfänger und Neu-ImkerDer Kurstermin findet immer freitags (7-mal) um 19:00 bis 21:00 Uhr statt.Das Seminar besteht aus sechs theoretischen Unterrichtseinheiten mit einen praktischem Anteil.Im Kurs werden die Grundlagen der Bienenhaltung vermittelt. \nAnmeldung per E-Mail an: imkerei-konopka@t-online.de
URL:https://imkerverbandrheinland.de/kalender/grundkurs-fuer-bienenhaltung/2026-02-27/
LOCATION:Lehrbienenstand Remstecken Koblenz\, Remstecken\, Koblenz\, RLP\, Germany
CATEGORIES:Verbandsveranstaltungen
ATTACH;FMTTYPE=image/webp:https://imkerverbandrheinland.de/cms/wp-content/uploads/2025/12/honey-bee-4270231_1920.webp
ORGANIZER;CN="Bienenzuchtverein Koblenz e.V. Olaf Konopka":MAILTO:imkerei-konopka@t-online.de
END:VEVENT
BEGIN:VEVENT
DTSTART;TZID=Europe/Helsinki:20260306T190000
DTEND;TZID=Europe/Helsinki:20260403T220000
DTSTAMP:20260422T112412
CREATED:20251231T110459Z
LAST-MODIFIED:20260109T080132Z
UID:10000248-1772823600-1775253600@imkerverbandrheinland.de
SUMMARY:Grundkurs für Bienenhaltung
DESCRIPTION:Für Anfänger und Neu-ImkerDer Kurstermin findet immer freitags (7-mal) um 19:00 bis 21:00 Uhr statt.Das Seminar besteht aus sechs theoretischen Unterrichtseinheiten mit einen praktischem Anteil.Im Kurs werden die Grundlagen der Bienenhaltung vermittelt. \nAnmeldung per E-Mail an: imkerei-konopka@t-online.de
URL:https://imkerverbandrheinland.de/kalender/grundkurs-fuer-bienenhaltung/2026-03-06/
LOCATION:Lehrbienenstand Remstecken Koblenz\, Remstecken\, Koblenz\, RLP\, Germany
CATEGORIES:Verbandsveranstaltungen
ATTACH;FMTTYPE=image/webp:https://imkerverbandrheinland.de/cms/wp-content/uploads/2025/12/honey-bee-4270231_1920.webp
ORGANIZER;CN="Bienenzuchtverein Koblenz e.V. Olaf Konopka":MAILTO:imkerei-konopka@t-online.de
END:VEVENT
BEGIN:VEVENT
DTSTART;TZID=Europe/Helsinki:20260313T190000
DTEND;TZID=Europe/Helsinki:20260410T220000
DTSTAMP:20260422T112412
CREATED:20251231T110459Z
LAST-MODIFIED:20260109T080132Z
UID:10000249-1773428400-1775858400@imkerverbandrheinland.de
SUMMARY:Grundkurs für Bienenhaltung
DESCRIPTION:Für Anfänger und Neu-ImkerDer Kurstermin findet immer freitags (7-mal) um 19:00 bis 21:00 Uhr statt.Das Seminar besteht aus sechs theoretischen Unterrichtseinheiten mit einen praktischem Anteil.Im Kurs werden die Grundlagen der Bienenhaltung vermittelt. \nAnmeldung per E-Mail an: imkerei-konopka@t-online.de
URL:https://imkerverbandrheinland.de/kalender/grundkurs-fuer-bienenhaltung/2026-03-13/
LOCATION:Lehrbienenstand Remstecken Koblenz\, Remstecken\, Koblenz\, RLP\, Germany
CATEGORIES:Verbandsveranstaltungen
ATTACH;FMTTYPE=image/webp:https://imkerverbandrheinland.de/cms/wp-content/uploads/2025/12/honey-bee-4270231_1920.webp
ORGANIZER;CN="Bienenzuchtverein Koblenz e.V. Olaf Konopka":MAILTO:imkerei-konopka@t-online.de
END:VEVENT
END:VCALENDAR